BEGIN:VCALENDAR
VERSION:2.0
PRODID:-//Ville de Saint-Paul - ECPv5.4.0//NONSGML v1.0//EN
CALSCALE:GREGORIAN
METHOD:PUBLISH
X-WR-CALNAME:Ville de Saint-Paul
X-ORIGINAL-URL:https://www.mairie-saintpaul.re
X-WR-CALDESC:évènements pour Ville de Saint-Paul
BEGIN:VTIMEZONE
TZID:Europe/Paris
BEGIN:DAYLIGHT
TZOFFSETFROM:+0100
TZOFFSETTO:+0200
TZNAME:CEST
DTSTART:20220327T010000
END:DAYLIGHT
BEGIN:STANDARD
TZOFFSETFROM:+0200
TZOFFSETTO:+0100
TZNAME:CET
DTSTART:20221030T010000
END:STANDARD
END:VTIMEZONE
BEGIN:VEVENT
DTSTART;TZID=Europe/Paris:20220916T080000
DTEND;TZID=Europe/Paris:20221022T170000
DTSTAMP:20260424T085217
CREATED:20220916T051654Z
LAST-MODIFIED:20220916T051654Z
UID:70454-1663315200-1666458000@www.mairie-saintpaul.re
SUMMARY:Ateliers "Fashion for Good" les traditions de la mode recyclée
DESCRIPTION:
URL:https://www.mairie-saintpaul.re/evenement/ateliers-fashion-for-good-les-traditions-de-la-mode-recyclee/
CATEGORIES:Culture
ATTACH;FMTTYPE=image/jpeg:https://www.mairie-saintpaul.re/wp-content/uploads/2022/09/affiche-atelier-QR-code-pench‚_0.jpeg
END:VEVENT
END:VCALENDAR