BEGIN:VCALENDAR
VERSION:2.0
PRODID:-//Ville de Saint-Paul - ECPv5.4.0//NONSGML v1.0//EN
CALSCALE:GREGORIAN
METHOD:PUBLISH
X-WR-CALNAME:Ville de Saint-Paul
X-ORIGINAL-URL:https://www.mairie-saintpaul.re
X-WR-CALDESC:évènements pour Ville de Saint-Paul
BEGIN:VTIMEZONE
TZID:Europe/Paris
BEGIN:DAYLIGHT
TZOFFSETFROM:+0100
TZOFFSETTO:+0200
TZNAME:CEST
DTSTART:20220327T010000
END:DAYLIGHT
BEGIN:STANDARD
TZOFFSETFROM:+0200
TZOFFSETTO:+0100
TZNAME:CET
DTSTART:20221030T010000
END:STANDARD
END:VTIMEZONE
BEGIN:VEVENT
DTSTART;TZID=Europe/Paris:20220912T080000
DTEND;TZID=Europe/Paris:20220915T170000
DTSTAMP:20260424T085246
CREATED:20220826T103724Z
LAST-MODIFIED:20220826T103724Z
UID:69469-1662969600-1663261200@www.mairie-saintpaul.re
SUMMARY:“Des bouches et des oreilles” : un spectacle itinérant à Mafate du 12 au 15 septembre
DESCRIPTION:
URL:https://www.mairie-saintpaul.re/evenement/des-bouches-et-des-oreilles-un-spectacle-itinerant-a-mafate-du-12-au-15-septembre/
LOCATION:Mafate
CATEGORIES:Animations,Sport
ATTACH;FMTTYPE=image/jpeg:https://www.mairie-saintpaul.re/wp-content/uploads/2022/08/DBDO-flyer-4-1-scaled.jpg
END:VEVENT
END:VCALENDAR