BEGIN:VCALENDAR
VERSION:2.0
PRODID:-//Ville de Saint-Paul - ECPv5.4.0//NONSGML v1.0//EN
CALSCALE:GREGORIAN
METHOD:PUBLISH
X-WR-CALNAME:Ville de Saint-Paul
X-ORIGINAL-URL:https://www.mairie-saintpaul.re
X-WR-CALDESC:évènements pour Ville de Saint-Paul
BEGIN:VTIMEZONE
TZID:Europe/Paris
BEGIN:DAYLIGHT
TZOFFSETFROM:+0100
TZOFFSETTO:+0200
TZNAME:CEST
DTSTART:20210328T010000
END:DAYLIGHT
BEGIN:STANDARD
TZOFFSETFROM:+0200
TZOFFSETTO:+0100
TZNAME:CET
DTSTART:20211031T010000
END:STANDARD
END:VTIMEZONE
BEGIN:VEVENT
DTSTART;TZID=Europe/Paris:20211125T080000
DTEND;TZID=Europe/Paris:20211125T120000
DTSTAMP:20260425T125548
CREATED:20210811T035248Z
LAST-MODIFIED:20210811T035527Z
UID:54060-1637827200-1637841600@www.mairie-saintpaul.re
SUMMARY:Des sessions de recrutement à Saint-Paul le 25 novembre
DESCRIPTION:
URL:https://www.mairie-saintpaul.re/evenement/des-sessions-de-recrutement-a-saint-paul-le-25-novembre/
CATEGORIES:Emploi/Formation
ATTACH;FMTTYPE=image/jpeg:https://www.mairie-saintpaul.re/wp-content/uploads/2021/08/E2C_25-novembre-02-scaled.jpg
END:VEVENT
END:VCALENDAR