BEGIN:VCALENDAR
VERSION:2.0
PRODID:-//Ville de Saint-Paul - ECPv5.4.0//NONSGML v1.0//EN
CALSCALE:GREGORIAN
METHOD:PUBLISH
X-WR-CALNAME:Ville de Saint-Paul
X-ORIGINAL-URL:https://www.mairie-saintpaul.re
X-WR-CALDESC:évènements pour Ville de Saint-Paul
BEGIN:VTIMEZONE
TZID:Europe/Paris
BEGIN:DAYLIGHT
TZOFFSETFROM:+0100
TZOFFSETTO:+0200
TZNAME:CEST
DTSTART:20230326T010000
END:DAYLIGHT
BEGIN:STANDARD
TZOFFSETFROM:+0200
TZOFFSETTO:+0100
TZNAME:CET
DTSTART:20231029T010000
END:STANDARD
END:VTIMEZONE
BEGIN:VEVENT
DTSTART;VALUE=DATE:20231004
DTEND;VALUE=DATE:20231019
DTSTAMP:20260420T164912
CREATED:20231002T074814Z
LAST-MODIFIED:20231002T074831Z
UID:94065-1696377600-1697673599@www.mairie-saintpaul.re
SUMMARY:Fans de jeux de société ? Rendez-vous dans le réseau de lecture publique de la Ville !
DESCRIPTION:
URL:https://www.mairie-saintpaul.re/evenement/fans-de-jeux-de-societe-rendez-vous-dans-le-reseau-de-lecture-publique-de-la-ville-3/
CATEGORIES:Animations
ATTACH;FMTTYPE=image/png:https://www.mairie-saintpaul.re/wp-content/uploads/2023/10/WEBjeu-de-societe-OCTOBRE-023-copie.png
END:VEVENT
END:VCALENDAR