BEGIN:VCALENDAR
VERSION:2.0
PRODID:-//Ville de Saint-Paul - ECPv5.4.0//NONSGML v1.0//EN
CALSCALE:GREGORIAN
METHOD:PUBLISH
X-WR-CALNAME:Ville de Saint-Paul
X-ORIGINAL-URL:https://www.mairie-saintpaul.re
X-WR-CALDESC:évènements pour Ville de Saint-Paul
BEGIN:VTIMEZONE
TZID:Europe/Paris
BEGIN:DAYLIGHT
TZOFFSETFROM:+0100
TZOFFSETTO:+0200
TZNAME:CEST
DTSTART:20230326T010000
END:DAYLIGHT
BEGIN:STANDARD
TZOFFSETFROM:+0200
TZOFFSETTO:+0100
TZNAME:CET
DTSTART:20231029T010000
END:STANDARD
END:VTIMEZONE
BEGIN:VEVENT
DTSTART;VALUE=DATE:20230706
DTEND;VALUE=DATE:20230717
DTSTAMP:20260424T032351
CREATED:20230615T075057Z
LAST-MODIFIED:20230704T050540Z
UID:86777-1688601600-1689551999@www.mairie-saintpaul.re
SUMMARY:Les Fêtes de Juillet à Saint-Paul !
DESCRIPTION:
URL:https://www.mairie-saintpaul.re/evenement/fdj-2023/
CATEGORIES:Animations,Société
ATTACH;FMTTYPE=image/jpeg:https://www.mairie-saintpaul.re/wp-content/uploads/2023/06/affiche-fete-de-juillet-2023-modif-13.jpg
END:VEVENT
END:VCALENDAR