BEGIN:VCALENDAR
VERSION:2.0
PRODID:-//Ville de Saint-Paul - ECPv5.4.0//NONSGML v1.0//EN
CALSCALE:GREGORIAN
METHOD:PUBLISH
X-WR-CALNAME:Ville de Saint-Paul
X-ORIGINAL-URL:https://www.mairie-saintpaul.re
X-WR-CALDESC:évènements pour Ville de Saint-Paul
BEGIN:VTIMEZONE
TZID:Europe/Paris
BEGIN:DAYLIGHT
TZOFFSETFROM:+0100
TZOFFSETTO:+0200
TZNAME:CEST
DTSTART:20220327T010000
END:DAYLIGHT
BEGIN:STANDARD
TZOFFSETFROM:+0200
TZOFFSETTO:+0100
TZNAME:CET
DTSTART:20221030T010000
END:STANDARD
END:VTIMEZONE
BEGIN:VEVENT
DTSTART;TZID=Europe/Paris:20221216T080000
DTEND;TZID=Europe/Paris:20221221T170000
DTSTAMP:20260424T141632
CREATED:20221214T045052Z
LAST-MODIFIED:20221219T101223Z
UID:76470-1671177600-1671642000@www.mairie-saintpaul.re
SUMMARY:Fet Kaf à Saint-Paul !
DESCRIPTION:
URL:https://www.mairie-saintpaul.re/evenement/fet-kaf-a-saint-paul/
CATEGORIES:Animations,Culture
ATTACH;FMTTYPE=image/jpeg:https://www.mairie-saintpaul.re/wp-content/uploads/2022/12/V4-FET_KAF-202-4x3-1.jpg
END:VEVENT
END:VCALENDAR