BEGIN:VCALENDAR
VERSION:2.0
PRODID:-//Ville de Saint-Paul - ECPv5.4.0//NONSGML v1.0//EN
CALSCALE:GREGORIAN
METHOD:PUBLISH
X-WR-CALNAME:Ville de Saint-Paul
X-ORIGINAL-URL:https://www.mairie-saintpaul.re
X-WR-CALDESC:évènements pour Ville de Saint-Paul
BEGIN:VTIMEZONE
TZID:Europe/Paris
BEGIN:DAYLIGHT
TZOFFSETFROM:+0100
TZOFFSETTO:+0200
TZNAME:CEST
DTSTART:20230326T010000
END:DAYLIGHT
BEGIN:STANDARD
TZOFFSETFROM:+0200
TZOFFSETTO:+0100
TZNAME:CET
DTSTART:20231029T010000
END:STANDARD
END:VTIMEZONE
BEGIN:VEVENT
DTSTART;TZID=Europe/Paris:20230711T080000
DTEND;TZID=Europe/Paris:20230711T233000
DTSTAMP:20260423T183332
CREATED:20230706T125342Z
LAST-MODIFIED:20230706T125344Z
UID:88940-1689062400-1689118200@www.mairie-saintpaul.re
SUMMARY:Fêtes de juillet au Parc Expobat : Soirée Reggae le 11 juillet prochain !
DESCRIPTION:
URL:https://www.mairie-saintpaul.re/evenement/fetes-de-juillet-au-parc-expobat-soiree-reggae-le-11-juillet-prochain/
CATEGORIES:Animations,Culture
ATTACH;FMTTYPE=image/jpeg:https://www.mairie-saintpaul.re/wp-content/uploads/2023/07/Screen-Shot-005.jpg
END:VEVENT
END:VCALENDAR