BEGIN:VCALENDAR
VERSION:2.0
PRODID:-//Ville de Saint-Paul - ECPv5.4.0//NONSGML v1.0//EN
CALSCALE:GREGORIAN
METHOD:PUBLISH
X-WR-CALNAME:Ville de Saint-Paul
X-ORIGINAL-URL:https://www.mairie-saintpaul.re
X-WR-CALDESC:évènements pour Ville de Saint-Paul
BEGIN:VTIMEZONE
TZID:Europe/Paris
BEGIN:DAYLIGHT
TZOFFSETFROM:+0100
TZOFFSETTO:+0200
TZNAME:CEST
DTSTART:20230326T010000
END:DAYLIGHT
BEGIN:STANDARD
TZOFFSETFROM:+0200
TZOFFSETTO:+0100
TZNAME:CET
DTSTART:20231029T010000
END:STANDARD
END:VTIMEZONE
BEGIN:VEVENT
DTSTART;TZID=Europe/Paris:20230714T050000
DTEND;TZID=Europe/Paris:20230714T233000
DTSTAMP:20260423T213200
CREATED:20230706T122656Z
LAST-MODIFIED:20230706T125124Z
UID:88930-1689310800-1689377400@www.mairie-saintpaul.re
SUMMARY:Fêtes de juillet - Soirée retro 974 au Parc Expobat le 14 juillet 2023
DESCRIPTION:
URL:https://www.mairie-saintpaul.re/evenement/fetes-de-juillet-soiree-retro-974-au-parc-expobat-le-14-juillet-2023/
CATEGORIES:Animations,Culture
ATTACH;FMTTYPE=image/jpeg:https://www.mairie-saintpaul.re/wp-content/uploads/2023/07/ScreenShot460.jpg
END:VEVENT
END:VCALENDAR