BEGIN:VCALENDAR
VERSION:2.0
PRODID:-//Ville de Saint-Paul - ECPv5.4.0//NONSGML v1.0//EN
CALSCALE:GREGORIAN
METHOD:PUBLISH
X-WR-CALNAME:Ville de Saint-Paul
X-ORIGINAL-URL:https://www.mairie-saintpaul.re
X-WR-CALDESC:évènements pour Ville de Saint-Paul
BEGIN:VTIMEZONE
TZID:Europe/Paris
BEGIN:DAYLIGHT
TZOFFSETFROM:+0100
TZOFFSETTO:+0200
TZNAME:CEST
DTSTART:20220327T010000
END:DAYLIGHT
BEGIN:STANDARD
TZOFFSETFROM:+0200
TZOFFSETTO:+0100
TZNAME:CET
DTSTART:20221030T010000
END:STANDARD
END:VTIMEZONE
BEGIN:VEVENT
DTSTART;TZID=Europe/Paris:20220604T093000
DTEND;TZID=Europe/Paris:20220604T170000
DTSTAMP:20260421T012357
CREATED:20220519T102408Z
LAST-MODIFIED:20220519T102456Z
UID:65398-1654335000-1654362000@www.mairie-saintpaul.re
SUMMARY:Jeux en bois
DESCRIPTION:
URL:https://www.mairie-saintpaul.re/evenement/jeux-en-bois/
LOCATION:Médiathèque Leconte-de-Lisle\, Saint-Paul\, Réunion
CATEGORIES:Animations
ATTACH;FMTTYPE=image/jpeg:https://www.mairie-saintpaul.re/wp-content/uploads/2022/05/Jeux-en-bois-web-scaled.jpg
GEO:-20.99838;55.27936
END:VEVENT
END:VCALENDAR