BEGIN:VCALENDAR
VERSION:2.0
PRODID:-//Ville de Saint-Paul - ECPv5.4.0//NONSGML v1.0//EN
CALSCALE:GREGORIAN
METHOD:PUBLISH
X-WR-CALNAME:Ville de Saint-Paul
X-ORIGINAL-URL:https://www.mairie-saintpaul.re
X-WR-CALDESC:évènements pour Ville de Saint-Paul
BEGIN:VTIMEZONE
TZID:Europe/Paris
BEGIN:DAYLIGHT
TZOFFSETFROM:+0100
TZOFFSETTO:+0200
TZNAME:CEST
DTSTART:20220327T010000
END:DAYLIGHT
BEGIN:STANDARD
TZOFFSETFROM:+0200
TZOFFSETTO:+0100
TZNAME:CET
DTSTART:20221030T010000
END:STANDARD
END:VTIMEZONE
BEGIN:VEVENT
DTSTART;TZID=Europe/Paris:20220921T100000
DTEND;TZID=Europe/Paris:20220921T180000
DTSTAMP:20260424T033110
CREATED:20220913T104538Z
LAST-MODIFIED:20220921T052459Z
UID:70327-1663754400-1663783200@www.mairie-saintpaul.re
SUMMARY:Journée Mondiale Alzheimer le 21 septembre
DESCRIPTION:
URL:https://www.mairie-saintpaul.re/evenement/journee-mondiale-alzheimer-le-21-septembre/
CATEGORIES:Santé
ATTACH;FMTTYPE=image/jpeg:https://www.mairie-saintpaul.re/wp-content/uploads/2022/09/JOURNEE-MONDIALE-2022-21-2.jpg
END:VEVENT
END:VCALENDAR