BEGIN:VCALENDAR
VERSION:2.0
PRODID:-//Ville de Saint-Paul - ECPv5.4.0//NONSGML v1.0//EN
CALSCALE:GREGORIAN
METHOD:PUBLISH
X-WR-CALNAME:Ville de Saint-Paul
X-ORIGINAL-URL:https://www.mairie-saintpaul.re
X-WR-CALDESC:évènements pour Ville de Saint-Paul
BEGIN:VTIMEZONE
TZID:Europe/Paris
BEGIN:DAYLIGHT
TZOFFSETFROM:+0100
TZOFFSETTO:+0200
TZNAME:CEST
DTSTART:20230326T010000
END:DAYLIGHT
BEGIN:STANDARD
TZOFFSETFROM:+0200
TZOFFSETTO:+0100
TZNAME:CET
DTSTART:20231029T010000
END:STANDARD
END:VTIMEZONE
BEGIN:VEVENT
DTSTART;TZID=Europe/Paris:20231009T080000
DTEND;TZID=Europe/Paris:20231009T170000
DTSTAMP:20260420T210749
CREATED:20231002T040439Z
LAST-MODIFIED:20231002T040441Z
UID:94054-1696838400-1696870800@www.mairie-saintpaul.re
SUMMARY:Journée portes ouvertes Maison France Services de Bellemène
DESCRIPTION:
URL:https://www.mairie-saintpaul.re/evenement/journee-portes-ouvertes-maison-france-services-de-bellemene/
CATEGORIES:Société
ATTACH;FMTTYPE=image/jpeg:https://www.mairie-saintpaul.re/wp-content/uploads/2023/10/FRANCE-SERVICES-3.jpg
END:VEVENT
END:VCALENDAR