BEGIN:VCALENDAR
VERSION:2.0
PRODID:-//Ville de Saint-Paul - ECPv5.4.0//NONSGML v1.0//EN
CALSCALE:GREGORIAN
METHOD:PUBLISH
X-WR-CALNAME:Ville de Saint-Paul
X-ORIGINAL-URL:https://www.mairie-saintpaul.re
X-WR-CALDESC:évènements pour Ville de Saint-Paul
BEGIN:VTIMEZONE
TZID:Europe/Paris
BEGIN:DAYLIGHT
TZOFFSETFROM:+0100
TZOFFSETTO:+0200
TZNAME:CEST
DTSTART:20240331T010000
END:DAYLIGHT
BEGIN:STANDARD
TZOFFSETFROM:+0200
TZOFFSETTO:+0100
TZNAME:CET
DTSTART:20241027T010000
END:STANDARD
END:VTIMEZONE
BEGIN:VEVENT
DTSTART;TZID=Europe/Paris:20240113T100000
DTEND;TZID=Europe/Paris:20240113T120000
DTSTAMP:20260423T094149
CREATED:20231215T100402Z
LAST-MODIFIED:20231215T100402Z
UID:97311-1705140000-1705147200@www.mairie-saintpaul.re
SUMMARY:Journée Portes-ouvertes - Présence exceptionnelle de l'équipe de France de natation artistique
DESCRIPTION:
URL:https://www.mairie-saintpaul.re/evenement/journee-portes-ouvertes-presence-exceptionnelle-de-lequipe-de-france-de-natation-artistique/
CATEGORIES:Animations
ATTACH;FMTTYPE=image/png:https://www.mairie-saintpaul.re/wp-content/uploads/2023/12/Capture-decran-2023-12-12-a-08.42.44-5.png
END:VEVENT
END:VCALENDAR