BEGIN:VCALENDAR
VERSION:2.0
PRODID:-//Ville de Saint-Paul - ECPv5.4.0//NONSGML v1.0//EN
CALSCALE:GREGORIAN
METHOD:PUBLISH
X-WR-CALNAME:Ville de Saint-Paul
X-ORIGINAL-URL:https://www.mairie-saintpaul.re
X-WR-CALDESC:évènements pour Ville de Saint-Paul
BEGIN:VTIMEZONE
TZID:Europe/Paris
BEGIN:DAYLIGHT
TZOFFSETFROM:+0100
TZOFFSETTO:+0200
TZNAME:CEST
DTSTART:20240331T010000
END:DAYLIGHT
BEGIN:STANDARD
TZOFFSETFROM:+0200
TZOFFSETTO:+0100
TZNAME:CET
DTSTART:20241027T010000
END:STANDARD
END:VTIMEZONE
BEGIN:VEVENT
DTSTART;VALUE=DATE:20240207
DTEND;VALUE=DATE:20240229
DTSTAMP:20260424T013908
CREATED:20240213T120322Z
LAST-MODIFIED:20240213T120323Z
UID:99178-1707264000-1709164799@www.mairie-saintpaul.re
SUMMARY:Journées dépistage à La Saline
DESCRIPTION:
URL:https://www.mairie-saintpaul.re/evenement/journees-depistage-a-la-saline/
CATEGORIES:Santé
ATTACH;FMTTYPE=application/pdf:https://www.mairie-saintpaul.re/wp-content/uploads/2024/02/DEPISTAGE-saint-paul.pdf
END:VEVENT
END:VCALENDAR