BEGIN:VCALENDAR
VERSION:2.0
PRODID:-//Ville de Saint-Paul - ECPv5.4.0//NONSGML v1.0//EN
CALSCALE:GREGORIAN
METHOD:PUBLISH
X-WR-CALNAME:Ville de Saint-Paul
X-ORIGINAL-URL:https://www.mairie-saintpaul.re
X-WR-CALDESC:évènements pour Ville de Saint-Paul
BEGIN:VTIMEZONE
TZID:Europe/Paris
BEGIN:DAYLIGHT
TZOFFSETFROM:+0100
TZOFFSETTO:+0200
TZNAME:CEST
DTSTART:20230326T010000
END:DAYLIGHT
BEGIN:STANDARD
TZOFFSETFROM:+0200
TZOFFSETTO:+0100
TZNAME:CET
DTSTART:20231029T010000
END:STANDARD
END:VTIMEZONE
BEGIN:VEVENT
DTSTART;TZID=Europe/Paris:20230707T080000
DTEND;TZID=Europe/Paris:20230707T120000
DTSTAMP:20260423T230343
CREATED:20230703T063113Z
LAST-MODIFIED:20230703T070534Z
UID:88575-1688716800-1688731200@www.mairie-saintpaul.re
SUMMARY:Karavan O.D.H.I.R au Plateau Noir de Sans Souci
DESCRIPTION:
URL:https://www.mairie-saintpaul.re/evenement/karavan-o-d-h-i-r-au-plateau-noir-de-sans-souci/
CATEGORIES:Animations,Santé
ATTACH;FMTTYPE=image/jpeg:https://www.mairie-saintpaul.re/wp-content/uploads/2023/07/bus-sante-odhir-JUILLET.jpg
END:VEVENT
END:VCALENDAR