BEGIN:VCALENDAR
VERSION:2.0
PRODID:-//Ville de Saint-Paul - ECPv5.4.0//NONSGML v1.0//EN
CALSCALE:GREGORIAN
METHOD:PUBLISH
X-WR-CALNAME:Ville de Saint-Paul
X-ORIGINAL-URL:https://www.mairie-saintpaul.re
X-WR-CALDESC:évènements pour Ville de Saint-Paul
BEGIN:VTIMEZONE
TZID:Europe/Paris
BEGIN:DAYLIGHT
TZOFFSETFROM:+0100
TZOFFSETTO:+0200
TZNAME:CEST
DTSTART:20230326T010000
END:DAYLIGHT
BEGIN:STANDARD
TZOFFSETFROM:+0200
TZOFFSETTO:+0100
TZNAME:CET
DTSTART:20231029T010000
END:STANDARD
END:VTIMEZONE
BEGIN:VEVENT
DTSTART;TZID=Europe/Paris:20230512T080000
DTEND;TZID=Europe/Paris:20230521T170000
DTSTAMP:20260424T085219
CREATED:20230512T022319Z
LAST-MODIFIED:20230512T022320Z
UID:83796-1683878400-1684688400@www.mairie-saintpaul.re
SUMMARY:La Fête de la Bretagne à Saint-Paul
DESCRIPTION:
URL:https://www.mairie-saintpaul.re/evenement/la-fete-de-la-bretagne-a-saint-paul/
CATEGORIES:Animations,Culture
ATTACH;FMTTYPE=image/jpeg:https://www.mairie-saintpaul.re/wp-content/uploads/2023/05/FDB23_saint_paul.jpg
END:VEVENT
END:VCALENDAR