BEGIN:VCALENDAR
VERSION:2.0
PRODID:-//Ville de Saint-Paul - ECPv5.4.0//NONSGML v1.0//EN
CALSCALE:GREGORIAN
METHOD:PUBLISH
X-WR-CALNAME:Ville de Saint-Paul
X-ORIGINAL-URL:https://www.mairie-saintpaul.re
X-WR-CALDESC:évènements pour Ville de Saint-Paul
BEGIN:VTIMEZONE
TZID:Europe/Paris
BEGIN:DAYLIGHT
TZOFFSETFROM:+0100
TZOFFSETTO:+0200
TZNAME:CEST
DTSTART:20240331T010000
END:DAYLIGHT
BEGIN:STANDARD
TZOFFSETFROM:+0200
TZOFFSETTO:+0100
TZNAME:CET
DTSTART:20241027T010000
END:STANDARD
END:VTIMEZONE
BEGIN:VEVENT
DTSTART;TZID=Europe/Paris:20240118T080000
DTEND;TZID=Europe/Paris:20240118T170000
DTSTAMP:20260423T134948
CREATED:20240118T051606Z
LAST-MODIFIED:20240118T051607Z
UID:98524-1705564800-1705597200@www.mairie-saintpaul.re
SUMMARY:Le marché nocturne de Saint-Gilles-Les-Bains prévu le 20 janvier
DESCRIPTION:
URL:https://www.mairie-saintpaul.re/evenement/le-marche-nocturne-de-saint-gilles-les-bains-prevu-le-20-janvier/
CATEGORIES:Animations
ATTACH;FMTTYPE=image/jpeg:https://www.mairie-saintpaul.re/wp-content/uploads/2024/01/WEB-1080x1350-JAN-scaled.jpg
END:VEVENT
END:VCALENDAR