BEGIN:VCALENDAR
VERSION:2.0
PRODID:-//Ville de Saint-Paul - ECPv5.4.0//NONSGML v1.0//EN
CALSCALE:GREGORIAN
METHOD:PUBLISH
X-WR-CALNAME:Ville de Saint-Paul
X-ORIGINAL-URL:https://www.mairie-saintpaul.re
X-WR-CALDESC:évènements pour Ville de Saint-Paul
BEGIN:VTIMEZONE
TZID:Europe/Paris
BEGIN:DAYLIGHT
TZOFFSETFROM:+0100
TZOFFSETTO:+0200
TZNAME:CEST
DTSTART:20230326T010000
END:DAYLIGHT
BEGIN:STANDARD
TZOFFSETFROM:+0200
TZOFFSETTO:+0100
TZNAME:CET
DTSTART:20231029T010000
END:STANDARD
END:VTIMEZONE
BEGIN:VEVENT
DTSTART;VALUE=DATE:20230607
DTEND;VALUE=DATE:20230622
DTSTAMP:20260424T055219
CREATED:20230607T042005Z
LAST-MODIFIED:20230607T042006Z
UID:85992-1686096000-1687391999@www.mairie-saintpaul.re
SUMMARY:Le Réseau de Lecture Publique s'anime en Juin !
DESCRIPTION:
URL:https://www.mairie-saintpaul.re/evenement/le-reseau-de-lecture-publique-sanime-en-juin/
CATEGORIES:Animations,Culture
ATTACH;FMTTYPE=image/jpeg:https://www.mairie-saintpaul.re/wp-content/uploads/2023/06/WEBjeu-de-societe-JUIN-023-copie.jpg
END:VEVENT
END:VCALENDAR