BEGIN:VCALENDAR
VERSION:2.0
PRODID:-//Ville de Saint-Paul - ECPv5.4.0//NONSGML v1.0//EN
CALSCALE:GREGORIAN
METHOD:PUBLISH
X-WR-CALNAME:Ville de Saint-Paul
X-ORIGINAL-URL:https://www.mairie-saintpaul.re
X-WR-CALDESC:évènements pour Ville de Saint-Paul
BEGIN:VTIMEZONE
TZID:Europe/Paris
BEGIN:DAYLIGHT
TZOFFSETFROM:+0100
TZOFFSETTO:+0200
TZNAME:CEST
DTSTART:20230326T010000
END:DAYLIGHT
BEGIN:STANDARD
TZOFFSETFROM:+0200
TZOFFSETTO:+0100
TZNAME:CET
DTSTART:20231029T010000
END:STANDARD
END:VTIMEZONE
BEGIN:VEVENT
DTSTART;TZID=Europe/Paris:20230916T080000
DTEND;TZID=Europe/Paris:20230917T170000
DTSTAMP:20260423T170003
CREATED:20230901T090026Z
LAST-MODIFIED:20230901T090036Z
UID:92432-1694851200-1694970000@www.mairie-saintpaul.re
SUMMARY:Les Journées européennes du Patrimoine à Saint-Paul
DESCRIPTION:
URL:https://www.mairie-saintpaul.re/evenement/les-journees-europeennes-du-patrimoine-a-saint-paul/
CATEGORIES:Animations,Culture,Patrimoine
ATTACH;FMTTYPE=image/png:https://www.mairie-saintpaul.re/wp-content/uploads/2023/09/Capture-decran-2023-08-29-a-11.16.25.png
END:VEVENT
END:VCALENDAR