BEGIN:VCALENDAR
VERSION:2.0
PRODID:-//Ville de Saint-Paul - ECPv5.4.0//NONSGML v1.0//EN
CALSCALE:GREGORIAN
METHOD:PUBLISH
X-WR-CALNAME:Ville de Saint-Paul
X-ORIGINAL-URL:https://www.mairie-saintpaul.re
X-WR-CALDESC:évènements pour Ville de Saint-Paul
BEGIN:VTIMEZONE
TZID:Europe/Paris
BEGIN:DAYLIGHT
TZOFFSETFROM:+0100
TZOFFSETTO:+0200
TZNAME:CEST
DTSTART:20230326T010000
END:DAYLIGHT
BEGIN:STANDARD
TZOFFSETFROM:+0200
TZOFFSETTO:+0100
TZNAME:CET
DTSTART:20231029T010000
END:STANDARD
END:VTIMEZONE
BEGIN:VEVENT
DTSTART;TZID=Europe/Paris:20230427T080000
DTEND;TZID=Europe/Paris:20230524T170000
DTSTAMP:20260424T085247
CREATED:20230427T115026Z
LAST-MODIFIED:20230427T115028Z
UID:82887-1682582400-1684947600@www.mairie-saintpaul.re
SUMMARY:Les matinées aquatiques pour les mois de mai et juin 2023
DESCRIPTION:
URL:https://www.mairie-saintpaul.re/evenement/les-matinees-aquatiques-pour-les-mois-de-mai-et-juin-2023/
CATEGORIES:Education
ATTACH;FMTTYPE=image/jpeg:https://www.mairie-saintpaul.re/wp-content/uploads/2023/04/WEBMATINEE-AQUATIQUE-6-MAI-AQuanaute-copie.jpg
END:VEVENT
END:VCALENDAR