BEGIN:VCALENDAR
VERSION:2.0
PRODID:-//Ville de Saint-Paul - ECPv5.4.0//NONSGML v1.0//EN
CALSCALE:GREGORIAN
METHOD:PUBLISH
X-WR-CALNAME:Ville de Saint-Paul
X-ORIGINAL-URL:https://www.mairie-saintpaul.re
X-WR-CALDESC:évènements pour Ville de Saint-Paul
BEGIN:VTIMEZONE
TZID:Europe/Paris
BEGIN:DAYLIGHT
TZOFFSETFROM:+0100
TZOFFSETTO:+0200
TZNAME:CEST
DTSTART:20240331T010000
END:DAYLIGHT
BEGIN:STANDARD
TZOFFSETFROM:+0200
TZOFFSETTO:+0100
TZNAME:CET
DTSTART:20241027T010000
END:STANDARD
END:VTIMEZONE
BEGIN:VEVENT
DTSTART;VALUE=DATE:20240118
DTEND;VALUE=DATE:20240122
DTSTAMP:20260423T105625
CREATED:20240118T054804Z
LAST-MODIFIED:20240118T073020Z
UID:98528-1705536000-1705881599@www.mairie-saintpaul.re
SUMMARY:Les nuits de la lecture
DESCRIPTION:
URL:https://www.mairie-saintpaul.re/evenement/les-nuits-de-la-lecture/
CATEGORIES:Animations,Culture
ATTACH;FMTTYPE=image/png:https://www.mairie-saintpaul.re/wp-content/uploads/2024/01/NDL2024_AFFICHE-OFFICIELLE-40x60_WEB.pdf-3.png
END:VEVENT
END:VCALENDAR