BEGIN:VCALENDAR
VERSION:2.0
PRODID:-//Ville de Saint-Paul - ECPv5.4.0//NONSGML v1.0//EN
CALSCALE:GREGORIAN
METHOD:PUBLISH
X-WR-CALNAME:Ville de Saint-Paul
X-ORIGINAL-URL:https://www.mairie-saintpaul.re
X-WR-CALDESC:évènements pour Ville de Saint-Paul
BEGIN:VTIMEZONE
TZID:Europe/Paris
BEGIN:DAYLIGHT
TZOFFSETFROM:+0100
TZOFFSETTO:+0200
TZNAME:CEST
DTSTART:20240331T010000
END:DAYLIGHT
BEGIN:STANDARD
TZOFFSETFROM:+0200
TZOFFSETTO:+0100
TZNAME:CET
DTSTART:20241027T010000
END:STANDARD
END:VTIMEZONE
BEGIN:VEVENT
DTSTART;TZID=Europe/Paris:20241015T080000
DTEND;TZID=Europe/Paris:20241031T170000
DTSTAMP:20260420T110059
CREATED:20241015T092946Z
LAST-MODIFIED:20241015T092947Z
UID:104740-1728979200-1730394000@www.mairie-saintpaul.re
SUMMARY:Les trophées saint-paulois de l'ESS
DESCRIPTION:
URL:https://www.mairie-saintpaul.re/evenement/les-trophees-saint-paulois-de-less/
ATTACH;FMTTYPE=image/jpeg:https://www.mairie-saintpaul.re/wp-content/uploads/2024/10/AFF_TROPHEES-DE-LESS-V3.jpg
END:VEVENT
END:VCALENDAR