BEGIN:VCALENDAR
VERSION:2.0
PRODID:-//Ville de Saint-Paul - ECPv5.4.0//NONSGML v1.0//EN
CALSCALE:GREGORIAN
METHOD:PUBLISH
X-WR-CALNAME:Ville de Saint-Paul
X-ORIGINAL-URL:https://www.mairie-saintpaul.re
X-WR-CALDESC:évènements pour Ville de Saint-Paul
BEGIN:VTIMEZONE
TZID:Europe/Paris
BEGIN:DAYLIGHT
TZOFFSETFROM:+0100
TZOFFSETTO:+0200
TZNAME:CEST
DTSTART:20230326T010000
END:DAYLIGHT
BEGIN:STANDARD
TZOFFSETFROM:+0200
TZOFFSETTO:+0100
TZNAME:CET
DTSTART:20231029T010000
END:STANDARD
END:VTIMEZONE
BEGIN:VEVENT
DTSTART;TZID=Europe/Paris:20230522T080000
DTEND;TZID=Europe/Paris:20230527T180000
DTSTAMP:20260424T101227
CREATED:20230524T055244Z
LAST-MODIFIED:20230524T055318Z
UID:85037-1684742400-1685210400@www.mairie-saintpaul.re
SUMMARY:Manga en lèr à la bibliothèque du Guillaume
DESCRIPTION:
URL:https://www.mairie-saintpaul.re/evenement/manga-en-ler-dans-le-reseau-de-lecture-publique-de-saint-paul/
LOCATION:Bibliothèque du Guillaume
CATEGORIES:Culture
ATTACH;FMTTYPE=image/png:https://www.mairie-saintpaul.re/wp-content/uploads/2023/05/GUILLAUME.png
END:VEVENT
END:VCALENDAR