BEGIN:VCALENDAR
VERSION:2.0
PRODID:-//Ville de Saint-Paul - ECPv5.4.0//NONSGML v1.0//EN
CALSCALE:GREGORIAN
METHOD:PUBLISH
X-WR-CALNAME:Ville de Saint-Paul
X-ORIGINAL-URL:https://www.mairie-saintpaul.re
X-WR-CALDESC:évènements pour Ville de Saint-Paul
BEGIN:VTIMEZONE
TZID:Europe/Paris
BEGIN:DAYLIGHT
TZOFFSETFROM:+0100
TZOFFSETTO:+0200
TZNAME:CEST
DTSTART:20240331T010000
END:DAYLIGHT
BEGIN:STANDARD
TZOFFSETFROM:+0200
TZOFFSETTO:+0100
TZNAME:CET
DTSTART:20241027T010000
END:STANDARD
END:VTIMEZONE
BEGIN:VEVENT
DTSTART;TZID=Europe/Paris:20240622T090000
DTEND;TZID=Europe/Paris:20240622T180000
DTSTAMP:20260423T134445
CREATED:20240609T061521Z
LAST-MODIFIED:20240609T061522Z
UID:102389-1719046800-1719079200@www.mairie-saintpaul.re
SUMMARY:Marché de l'art
DESCRIPTION:
URL:https://www.mairie-saintpaul.re/evenement/marche-de-lart/
LOCATION:Saint-Gilles-les-Bains
CATEGORIES:Société
ATTACH;FMTTYPE=application/pdf:https://www.mairie-saintpaul.re/wp-content/uploads/2024/06/AFFICHE-MDLART_24.pdf
END:VEVENT
END:VCALENDAR