BEGIN:VCALENDAR
VERSION:2.0
PRODID:-//Ville de Saint-Paul - ECPv5.4.0//NONSGML v1.0//EN
CALSCALE:GREGORIAN
METHOD:PUBLISH
X-WR-CALNAME:Ville de Saint-Paul
X-ORIGINAL-URL:https://www.mairie-saintpaul.re
X-WR-CALDESC:évènements pour Ville de Saint-Paul
BEGIN:VTIMEZONE
TZID:Europe/Paris
BEGIN:DAYLIGHT
TZOFFSETFROM:+0100
TZOFFSETTO:+0200
TZNAME:CEST
DTSTART:20230326T010000
END:DAYLIGHT
BEGIN:STANDARD
TZOFFSETFROM:+0200
TZOFFSETTO:+0100
TZNAME:CET
DTSTART:20231029T010000
END:STANDARD
END:VTIMEZONE
BEGIN:VEVENT
DTSTART;TZID=Europe/Paris:20230327T080000
DTEND;TZID=Europe/Paris:20230416T170000
DTSTAMP:20260423T212833
CREATED:20230327T154052Z
LAST-MODIFIED:20230327T154103Z
UID:81494-1679904000-1681664400@www.mairie-saintpaul.re
SUMMARY:Matinée aquatique du Dimanche 16 avril
DESCRIPTION:
URL:https://www.mairie-saintpaul.re/evenement/matinee-aquatique-du-dimanche-16-avril/
CATEGORIES:Sport
ATTACH;FMTTYPE=image/jpeg:https://www.mairie-saintpaul.re/wp-content/uploads/2023/03/WEBMATINEE-AQUATTIQUE-plateau-copie.jpg
END:VEVENT
END:VCALENDAR