BEGIN:VCALENDAR
VERSION:2.0
PRODID:-//Ville de Saint-Paul - ECPv5.4.0//NONSGML v1.0//EN
CALSCALE:GREGORIAN
METHOD:PUBLISH
X-WR-CALNAME:Ville de Saint-Paul
X-ORIGINAL-URL:https://www.mairie-saintpaul.re
X-WR-CALDESC:évènements pour Ville de Saint-Paul
BEGIN:VTIMEZONE
TZID:Europe/Paris
BEGIN:DAYLIGHT
TZOFFSETFROM:+0100
TZOFFSETTO:+0200
TZNAME:CEST
DTSTART:20230326T010000
END:DAYLIGHT
BEGIN:STANDARD
TZOFFSETFROM:+0200
TZOFFSETTO:+0100
TZNAME:CET
DTSTART:20231029T010000
END:STANDARD
END:VTIMEZONE
BEGIN:VEVENT
DTSTART;TZID=Europe/Paris:20231005T080000
DTEND;TZID=Europe/Paris:20231028T170000
DTSTAMP:20260420T180213
CREATED:20230927T052806Z
LAST-MODIFIED:20230927T052807Z
UID:93779-1696492800-1698512400@www.mairie-saintpaul.re
SUMMARY:"Mon héritage" de l'artiste Coryne BOYER s'expose à la longère Sudel FUMA
DESCRIPTION:
URL:https://www.mairie-saintpaul.re/evenement/mon-heritage-de-lartiste-coryne-boyer-sexpose-a-la-longere-sudel-fuma/
CATEGORIES:Animations,Culture
ATTACH;FMTTYPE=image/jpeg:https://www.mairie-saintpaul.re/wp-content/uploads/2023/09/Coryne-BOYER-Affiche-Logere-Sudel-FUMA.jpg
END:VEVENT
END:VCALENDAR