BEGIN:VCALENDAR
VERSION:2.0
PRODID:-//Ville de Saint-Paul - ECPv5.4.0//NONSGML v1.0//EN
CALSCALE:GREGORIAN
METHOD:PUBLISH
X-WR-CALNAME:Ville de Saint-Paul
X-ORIGINAL-URL:https://www.mairie-saintpaul.re
X-WR-CALDESC:évènements pour Ville de Saint-Paul
BEGIN:VTIMEZONE
TZID:Europe/Paris
BEGIN:DAYLIGHT
TZOFFSETFROM:+0100
TZOFFSETTO:+0200
TZNAME:CEST
DTSTART:20220327T010000
END:DAYLIGHT
BEGIN:STANDARD
TZOFFSETFROM:+0200
TZOFFSETTO:+0100
TZNAME:CET
DTSTART:20221030T010000
END:STANDARD
END:VTIMEZONE
BEGIN:VEVENT
DTSTART;TZID=Europe/Paris:20221113T080000
DTEND;TZID=Europe/Paris:20221113T170000
DTSTAMP:20260424T043128
CREATED:20221031T103526Z
LAST-MODIFIED:20221031T103526Z
UID:73542-1668326400-1668358800@www.mairie-saintpaul.re
SUMMARY:Participez à la Cyclo rando des Moustaches à Vélo
DESCRIPTION:
URL:https://www.mairie-saintpaul.re/evenement/participez-a-la-cyclo-rando-des-moustaches-a-velo/
CATEGORIES:Sport
ATTACH;FMTTYPE=image/jpeg:https://www.mairie-saintpaul.re/wp-content/uploads/2022/10/affiche-moustache-a-velo-modif-03.jpg
END:VEVENT
END:VCALENDAR