BEGIN:VCALENDAR
VERSION:2.0
PRODID:-//Ville de Saint-Paul - ECPv5.4.0//NONSGML v1.0//EN
CALSCALE:GREGORIAN
METHOD:PUBLISH
X-WR-CALNAME:Ville de Saint-Paul
X-ORIGINAL-URL:https://www.mairie-saintpaul.re
X-WR-CALDESC:évènements pour Ville de Saint-Paul
BEGIN:VTIMEZONE
TZID:Europe/Paris
BEGIN:DAYLIGHT
TZOFFSETFROM:+0100
TZOFFSETTO:+0200
TZNAME:CEST
DTSTART:20220327T010000
END:DAYLIGHT
BEGIN:STANDARD
TZOFFSETFROM:+0200
TZOFFSETTO:+0100
TZNAME:CET
DTSTART:20221030T010000
END:STANDARD
END:VTIMEZONE
BEGIN:VEVENT
DTSTART;TZID=Europe/Paris:20220918T080000
DTEND;TZID=Europe/Paris:20220918T170000
DTSTAMP:20260424T032351
CREATED:20220914T080208Z
LAST-MODIFIED:20220914T080208Z
UID:70360-1663488000-1663520400@www.mairie-saintpaul.re
SUMMARY:Participez à la Rando vélo Intercommunale !
DESCRIPTION:
URL:https://www.mairie-saintpaul.re/evenement/participez-a-la-rando-velo-intercommunale/
CATEGORIES:Animations,Sport
ATTACH;FMTTYPE=image/webp:https://www.mairie-saintpaul.re/wp-content/uploads/2022/09/rando-velo-2022-v3-1.webp
END:VEVENT
END:VCALENDAR