BEGIN:VCALENDAR
VERSION:2.0
PRODID:-//Ville de Saint-Paul - ECPv5.4.0//NONSGML v1.0//EN
CALSCALE:GREGORIAN
METHOD:PUBLISH
X-WR-CALNAME:Ville de Saint-Paul
X-ORIGINAL-URL:https://www.mairie-saintpaul.re
X-WR-CALDESC:évènements pour Ville de Saint-Paul
BEGIN:VTIMEZONE
TZID:Europe/Paris
BEGIN:DAYLIGHT
TZOFFSETFROM:+0100
TZOFFSETTO:+0200
TZNAME:CEST
DTSTART:20220327T010000
END:DAYLIGHT
BEGIN:STANDARD
TZOFFSETFROM:+0200
TZOFFSETTO:+0100
TZNAME:CET
DTSTART:20221030T010000
END:STANDARD
END:VTIMEZONE
BEGIN:VEVENT
DTSTART;TZID=Europe/Paris:20220917T090000
DTEND;TZID=Europe/Paris:20220917T170000
DTSTAMP:20260424T045357
CREATED:20220908T041402Z
LAST-MODIFIED:20220908T041402Z
UID:70061-1663405200-1663434000@www.mairie-saintpaul.re
SUMMARY:Participez à "l'atelier couture" à l'occasion de la Semaine Européenne du Développement Durable
DESCRIPTION:
URL:https://www.mairie-saintpaul.re/evenement/participez-a-latelier-couture-a-loccasion-de-la-semaine-europeenne-du-developpement-durable/
CATEGORIES:Animations,Environnement
ATTACH;FMTTYPE=image/png:https://www.mairie-saintpaul.re/wp-content/uploads/2022/09/Atelier-Couture17092022.png
END:VEVENT
END:VCALENDAR