BEGIN:VCALENDAR
VERSION:2.0
PRODID:-//Ville de Saint-Paul - ECPv5.4.0//NONSGML v1.0//EN
CALSCALE:GREGORIAN
METHOD:PUBLISH
X-WR-CALNAME:Ville de Saint-Paul
X-ORIGINAL-URL:https://www.mairie-saintpaul.re
X-WR-CALDESC:évènements pour Ville de Saint-Paul
BEGIN:VTIMEZONE
TZID:Europe/Paris
BEGIN:DAYLIGHT
TZOFFSETFROM:+0100
TZOFFSETTO:+0200
TZNAME:CEST
DTSTART:20220327T010000
END:DAYLIGHT
BEGIN:STANDARD
TZOFFSETFROM:+0200
TZOFFSETTO:+0100
TZNAME:CET
DTSTART:20221030T010000
END:STANDARD
END:VTIMEZONE
BEGIN:VEVENT
DTSTART;TZID=Europe/Paris:20221203T080000
DTEND;TZID=Europe/Paris:20221203T170000
DTSTAMP:20260425T000306
CREATED:20221128T131537Z
LAST-MODIFIED:20221128T131537Z
UID:75610-1670054400-1670086800@www.mairie-saintpaul.re
SUMMARY:Participez au téléthon ce samedi 3 novembre sur la place du débarcadère
DESCRIPTION:
URL:https://www.mairie-saintpaul.re/evenement/participez-au-telethon-ce-samedi-3-novembre-sur-la-place-du-debarcadere/
LOCATION:Place du Débarcadère
CATEGORIES:Animations,Santé
ATTACH;FMTTYPE=image/png:https://www.mairie-saintpaul.re/wp-content/uploads/2022/11/Capture-décran-2022-11-28-à-17.13.08.png
GEO:-21.0083;55.26951
END:VEVENT
END:VCALENDAR