BEGIN:VCALENDAR
VERSION:2.0
PRODID:-//Ville de Saint-Paul - ECPv5.4.0//NONSGML v1.0//EN
CALSCALE:GREGORIAN
METHOD:PUBLISH
X-WR-CALNAME:Ville de Saint-Paul
X-ORIGINAL-URL:https://www.mairie-saintpaul.re
X-WR-CALDESC:évènements pour Ville de Saint-Paul
BEGIN:VTIMEZONE
TZID:Europe/Paris
BEGIN:DAYLIGHT
TZOFFSETFROM:+0100
TZOFFSETTO:+0200
TZNAME:CEST
DTSTART:20240331T010000
END:DAYLIGHT
BEGIN:STANDARD
TZOFFSETFROM:+0200
TZOFFSETTO:+0100
TZNAME:CET
DTSTART:20241027T010000
END:STANDARD
END:VTIMEZONE
BEGIN:VEVENT
DTSTART;TZID=Europe/Paris:20240619T083000
DTEND;TZID=Europe/Paris:20240619T153000
DTSTAMP:20260423T134945
CREATED:20240603T095058Z
LAST-MODIFIED:20240603T095059Z
UID:102273-1718785800-1718811000@www.mairie-saintpaul.re
SUMMARY:Permanences des travailleurs sociaux et des aidants numériques dann' Mafate
DESCRIPTION:
URL:https://www.mairie-saintpaul.re/evenement/permanences-des-travailleurs-sociaux-et-des-aidants-numeriques-dann-mafate/
CATEGORIES:Société
ATTACH;FMTTYPE=image/jpeg:https://www.mairie-saintpaul.re/wp-content/uploads/2024/06/WEBTravailleurs-sociaux-mafate-NOV-2023-copie.jpg
END:VEVENT
END:VCALENDAR