BEGIN:VCALENDAR
VERSION:2.0
PRODID:-//Ville de Saint-Paul - ECPv5.4.0//NONSGML v1.0//EN
CALSCALE:GREGORIAN
METHOD:PUBLISH
X-WR-CALNAME:Ville de Saint-Paul
X-ORIGINAL-URL:https://www.mairie-saintpaul.re
X-WR-CALDESC:évènements pour Ville de Saint-Paul
BEGIN:VTIMEZONE
TZID:Europe/Paris
BEGIN:DAYLIGHT
TZOFFSETFROM:+0100
TZOFFSETTO:+0200
TZNAME:CEST
DTSTART:20230326T010000
END:DAYLIGHT
BEGIN:STANDARD
TZOFFSETFROM:+0200
TZOFFSETTO:+0100
TZNAME:CET
DTSTART:20231029T010000
END:STANDARD
END:VTIMEZONE
BEGIN:VEVENT
DTSTART;VALUE=DATE:20230715
DTEND;VALUE=DATE:20230815
DTSTAMP:20260423T212719
CREATED:20230706T061704Z
LAST-MODIFIED:20230706T061704Z
UID:88858-1689379200-1692057599@www.mairie-saintpaul.re
SUMMARY:Plongez dans le monde des cétacés !
DESCRIPTION:Le Campus des cétacés mobile s’installe à Saint-Paul ! Sur la Place du Débarcadère ! \nDu 15 juillet au 14 août 2023\, du jeudi au dimanche venez découvrir le monde des cétacés réunionnais et la nécessité de les préserver. \nAu programme : des visites\, des activités\, des films en réalité immersive\, de l’initiation aux méthodes scientifiques. \nRendez-vous sur la Place du Débarcadère. \n 
URL:https://www.mairie-saintpaul.re/evenement/plongez-dans-le-monde-des-cetaces/
LOCATION:Place du Débarcadère
ATTACH;FMTTYPE=application/pdf:https://www.mairie-saintpaul.re/wp-content/uploads/2023/07/Affiche-Saint-Paul-1-1.pdf
GEO:-21.0083;55.26951
END:VEVENT
END:VCALENDAR