BEGIN:VCALENDAR
VERSION:2.0
PRODID:-//Ville de Saint-Paul - ECPv5.4.0//NONSGML v1.0//EN
CALSCALE:GREGORIAN
METHOD:PUBLISH
X-WR-CALNAME:Ville de Saint-Paul
X-ORIGINAL-URL:https://www.mairie-saintpaul.re
X-WR-CALDESC:évènements pour Ville de Saint-Paul
BEGIN:VTIMEZONE
TZID:Europe/Paris
BEGIN:DAYLIGHT
TZOFFSETFROM:+0100
TZOFFSETTO:+0200
TZNAME:CEST
DTSTART:20230326T010000
END:DAYLIGHT
BEGIN:STANDARD
TZOFFSETFROM:+0200
TZOFFSETTO:+0100
TZNAME:CET
DTSTART:20231029T010000
END:STANDARD
END:VTIMEZONE
BEGIN:VEVENT
DTSTART;TZID=Europe/Paris:20230511T080000
DTEND;TZID=Europe/Paris:20230516T170000
DTSTAMP:20260424T085245
CREATED:20230511T181257Z
LAST-MODIFIED:20230511T181257Z
UID:83789-1683792000-1684256400@www.mairie-saintpaul.re
SUMMARY:Saint-Paul célèbre la 2ème édition de la Journée Internationale du Vivre-Ensemble en Paix
DESCRIPTION:
URL:https://www.mairie-saintpaul.re/evenement/saint-paul-celebre-la-2eme-edition-de-la-journee-internationale-du-vivre-ensemble-en-paix/
CATEGORIES:Animations,Culture
ATTACH;FMTTYPE=image/jpeg:https://www.mairie-saintpaul.re/wp-content/uploads/2023/05/WEBVIVRE-ENSEMBLE-EN-PAIX-2023-copie.jpg
END:VEVENT
END:VCALENDAR