BEGIN:VCALENDAR
VERSION:2.0
PRODID:-//Ville de Saint-Paul - ECPv5.4.0//NONSGML v1.0//EN
CALSCALE:GREGORIAN
METHOD:PUBLISH
X-WR-CALNAME:Ville de Saint-Paul
X-ORIGINAL-URL:https://www.mairie-saintpaul.re
X-WR-CALDESC:évènements pour Ville de Saint-Paul
BEGIN:VTIMEZONE
TZID:Europe/Paris
BEGIN:DAYLIGHT
TZOFFSETFROM:+0100
TZOFFSETTO:+0200
TZNAME:CEST
DTSTART:20230326T010000
END:DAYLIGHT
BEGIN:STANDARD
TZOFFSETFROM:+0200
TZOFFSETTO:+0100
TZNAME:CET
DTSTART:20231029T010000
END:STANDARD
END:VTIMEZONE
BEGIN:VEVENT
DTSTART;TZID=Europe/Paris:20230706T080000
DTEND;TZID=Europe/Paris:20230707T233000
DTSTAMP:20260424T015716
CREATED:20230706T100905Z
LAST-MODIFIED:20230706T100905Z
UID:88872-1688630400-1688772600@www.mairie-saintpaul.re
SUMMARY:Soirée holiday Party DJ au Parc Expobat le 7 juillet
DESCRIPTION:
URL:https://www.mairie-saintpaul.re/evenement/soiree-holiday-party-dj-au-parc-expobat-le-7-juillet/
CATEGORIES:Animations,Culture
ATTACH;FMTTYPE=image/jpeg:https://www.mairie-saintpaul.re/wp-content/uploads/2023/07/ScreenShot459.jpg
END:VEVENT
END:VCALENDAR