BEGIN:VCALENDAR
VERSION:2.0
PRODID:-//Ville de Saint-Paul - ECPv5.4.0//NONSGML v1.0//EN
CALSCALE:GREGORIAN
METHOD:PUBLISH
X-WR-CALNAME:Ville de Saint-Paul
X-ORIGINAL-URL:https://www.mairie-saintpaul.re
X-WR-CALDESC:évènements pour Ville de Saint-Paul
BEGIN:VTIMEZONE
TZID:Europe/Paris
BEGIN:DAYLIGHT
TZOFFSETFROM:+0100
TZOFFSETTO:+0200
TZNAME:CEST
DTSTART:20240331T010000
END:DAYLIGHT
BEGIN:STANDARD
TZOFFSETFROM:+0200
TZOFFSETTO:+0100
TZNAME:CET
DTSTART:20241027T010000
END:STANDARD
END:VTIMEZONE
BEGIN:VEVENT
DTSTART;TZID=Europe/Paris:20240316T220000
DTEND;TZID=Europe/Paris:20240317T220000
DTSTAMP:20260424T013652
CREATED:20240312T125849Z
LAST-MODIFIED:20240312T125849Z
UID:99739-1710626400-1710712800@www.mairie-saintpaul.re
SUMMARY:Soirée prévention au Moulin du Tango !
DESCRIPTION:
URL:https://www.mairie-saintpaul.re/evenement/soiree-prevention-au-moulin-du-tango/
CATEGORIES:Animations,Santé
ATTACH;FMTTYPE=image/jpeg:https://www.mairie-saintpaul.re/wp-content/uploads/2024/03/SoireePreventionMoulinduTango.jpeg
END:VEVENT
END:VCALENDAR