BEGIN:VCALENDAR
VERSION:2.0
PRODID:-//Ville de Saint-Paul - ECPv5.4.0//NONSGML v1.0//EN
CALSCALE:GREGORIAN
METHOD:PUBLISH
X-WR-CALNAME:Ville de Saint-Paul
X-ORIGINAL-URL:https://www.mairie-saintpaul.re
X-WR-CALDESC:évènements pour Ville de Saint-Paul
BEGIN:VTIMEZONE
TZID:Europe/Paris
BEGIN:DAYLIGHT
TZOFFSETFROM:+0100
TZOFFSETTO:+0200
TZNAME:CEST
DTSTART:20230326T010000
END:DAYLIGHT
BEGIN:STANDARD
TZOFFSETFROM:+0200
TZOFFSETTO:+0100
TZNAME:CET
DTSTART:20231029T010000
END:STANDARD
END:VTIMEZONE
BEGIN:VEVENT
DTSTART;TZID=Europe/Paris:20230916T080000
DTEND;TZID=Europe/Paris:20230916T170000
DTSTAMP:20260423T134947
CREATED:20230725T071246Z
LAST-MODIFIED:20230725T071258Z
UID:90330-1694851200-1694883600@www.mairie-saintpaul.re
SUMMARY:Trail urbain de l'Écocité : le rendez-vous est pris le 16 septembre !
DESCRIPTION:
URL:https://www.mairie-saintpaul.re/evenement/trail-urbain-de-lecocite-le-rendez-vous-est-pris-le-16-septembre/
CATEGORIES:Sport
ATTACH;FMTTYPE=image/jpeg:https://www.mairie-saintpaul.re/wp-content/uploads/2023/07/TRAIL-COCIT-AFFICHE-VD.jpg
END:VEVENT
END:VCALENDAR