BEGIN:VCALENDAR
VERSION:2.0
PRODID:-//Ville de Saint-Paul - ECPv5.4.0//NONSGML v1.0//EN
CALSCALE:GREGORIAN
METHOD:PUBLISH
X-WR-CALNAME:Ville de Saint-Paul
X-ORIGINAL-URL:https://www.mairie-saintpaul.re
X-WR-CALDESC:évènements pour Ville de Saint-Paul
BEGIN:VTIMEZONE
TZID:Europe/Paris
BEGIN:DAYLIGHT
TZOFFSETFROM:+0100
TZOFFSETTO:+0200
TZNAME:CEST
DTSTART:20220327T010000
END:DAYLIGHT
BEGIN:STANDARD
TZOFFSETFROM:+0200
TZOFFSETTO:+0100
TZNAME:CET
DTSTART:20221030T010000
END:STANDARD
END:VTIMEZONE
BEGIN:VEVENT
DTSTART;TZID=Europe/Paris:20221126T163000
DTEND;TZID=Europe/Paris:20221126T233000
DTSTAMP:20260422T110641
CREATED:20221024T092528Z
LAST-MODIFIED:20221024T092528Z
UID:72976-1669480200-1669505400@www.mairie-saintpaul.re
SUMMARY:Trail urbain de l'écocité
DESCRIPTION:
URL:https://www.mairie-saintpaul.re/evenement/trail-urbain-de-lecocite/
CATEGORIES:Sport
ATTACH;FMTTYPE=image/jpeg:https://www.mairie-saintpaul.re/wp-content/uploads/2022/10/TRAIL-ECOCITÉ-AFFICHE-V2_2.jpg
END:VEVENT
END:VCALENDAR