BEGIN:VCALENDAR
VERSION:2.0
PRODID:-//Ville de Saint-Paul - ECPv5.4.0//NONSGML v1.0//EN
CALSCALE:GREGORIAN
METHOD:PUBLISH
X-WR-CALNAME:Ville de Saint-Paul
X-ORIGINAL-URL:https://www.mairie-saintpaul.re
X-WR-CALDESC:évènements pour Ville de Saint-Paul
BEGIN:VTIMEZONE
TZID:Europe/Paris
BEGIN:DAYLIGHT
TZOFFSETFROM:+0100
TZOFFSETTO:+0200
TZNAME:CEST
DTSTART:20230326T010000
END:DAYLIGHT
BEGIN:STANDARD
TZOFFSETFROM:+0200
TZOFFSETTO:+0100
TZNAME:CET
DTSTART:20231029T010000
END:STANDARD
END:VTIMEZONE
BEGIN:VEVENT
DTSTART;TZID=Europe/Paris:20231006T080000
DTEND;TZID=Europe/Paris:20231006T120000
DTSTAMP:20260420T194527
CREATED:20230929T103018Z
LAST-MODIFIED:20230929T103019Z
UID:93948-1696579200-1696593600@www.mairie-saintpaul.re
SUMMARY:Une action décentralisée organisée à Tan Rouge
DESCRIPTION:
URL:https://www.mairie-saintpaul.re/evenement/une-action-decentralisee-organisee-a-tan-rouge/
LOCATION:Maison de quartier de Tan Rouge
CATEGORIES:Santé
END:VEVENT
END:VCALENDAR