BEGIN:VCALENDAR
VERSION:2.0
PRODID:-//Ville de Saint-Paul - ECPv5.4.0//NONSGML v1.0//EN
CALSCALE:GREGORIAN
METHOD:PUBLISH
X-WR-CALNAME:Ville de Saint-Paul
X-ORIGINAL-URL:https://www.mairie-saintpaul.re
X-WR-CALDESC:évènements pour Ville de Saint-Paul
BEGIN:VTIMEZONE
TZID:Europe/Paris
BEGIN:DAYLIGHT
TZOFFSETFROM:+0100
TZOFFSETTO:+0200
TZNAME:CEST
DTSTART:20230326T010000
END:DAYLIGHT
BEGIN:STANDARD
TZOFFSETFROM:+0200
TZOFFSETTO:+0100
TZNAME:CET
DTSTART:20231029T010000
END:STANDARD
END:VTIMEZONE
BEGIN:VEVENT
DTSTART;TZID=Europe/Paris:20231016T080000
DTEND;TZID=Europe/Paris:20231016T080000
DTSTAMP:20260421T001533
CREATED:20230907T062326Z
LAST-MODIFIED:20231002T043057Z
UID:92683-1697443200-1697443200@www.mairie-saintpaul.re
SUMMARY:Vakans ados
DESCRIPTION:
URL:https://www.mairie-saintpaul.re/evenement/vakans-ados/
CATEGORIES:Animations
ATTACH;FMTTYPE=image/jpeg:https://www.mairie-saintpaul.re/wp-content/uploads/2023/09/Vakans-Ados-scaled.jpg
END:VEVENT
END:VCALENDAR